Workbook

Sheet líneas-PROGRAMAS
B1: LÍNEAS DE INVESTIGACIÓN
A3: No. | B3: LÍNES DE INVESTIGACIÓN | C3: PROGRAMAS | D3: CARRERAS
A5: 1 | B5: Medicina Ancestral Tradicional Andina | C5: Medicina Ancestral Tradicional Andina y Terapias Integrales | D5: Medicina Andina y Terapias Ancestrales
A6: 2 | B6: Construcciones Andinas y Patrimonio | C6: Construcciones Andinas: Epistemología, Diseño y Materialidad | D6: Construcciones Andinas
A7: 3 | B7: Prácticas Agropecuarias Ancestrales, seguridad y soberanía alimentaria. | C7: Agropecuaria Ancestral Andina, Seguridad y Soberanía Alimentaria | D7: Agropecuaria Andina
A8: 4 | B8: Organización Comunitaria, Derechos, Interculturalidad y Emprendimiento | C8: Inclusión Social, Derechos e Interculturalidad. | D8: Promoción y Defensoría Social
A9: 5 | B9: Saberes Ancestrales, Lenguas y Valores Culturales de los Pueblos Originarios en los Andes. | C9: Preservación y Difusión de los Saberes Ancestrales Andinos | D9: Ciencias y Saberes Ancestrales
A10: 6 | B10: Salud Intercultural, Comunitaria y Buen Vivir. | C10: Salud Intercultural, Bienestar Comunitario y Enfermería. | D10: Enfermería

Sheet proyectos
B1: PROYECTOS
A2: CÓDIGO | B2: NOMBRE DEL PROYECTO | C2: OBJETIVO | D2: PROGRAMA | E2: LÍNEA DE INVESTIGACIÓN | F2: ESTADO | G2: CARRERA
A4: E-001 | B4: Perspectivas Integradas sobre Violencia Intrafamiliar: Repercusiones Psicológicas, Dependencia Emocional y Factores de Riesgo en América Latina y Ecuador. | C4: Analizar de manera integral la violencia intrafamiliar en América Latina y Ecuador, identificando sus repercusiones psicológicas, la dependencia emocional generada en las víctimas y los principales factores de riesgo asociados, con el propósito de aportar evidencia científica que contribuya al diseño de estrategias de prevención y atención. | D4: =#REF! -> #REF! | E4: =#REF! -> #REF! | F4: FINALIZADO | G4: ENFERMERÍA
A5: CSA-001 | B5: Metodología Tinkuy (del encuentro) como estrategia del proceso enseñanza aprendizaje en el Modelo Educativo Intercultural Sustentado en los Saberes Ancestrales Andinos (MEISSAA) | C5: Analizar y aplicar la metodología Tinkuy como estrategia del proceso de enseñanza-aprendizaje en el Modelo Educativo Intercultural Sustentado en los Saberes Ancestrales Andinos (MEISSAA), con el propósito de fortalecer la educación intercultural y promover la revalorización de los conocimientos ancestrales en el ámbito académico. | D5: =#REF! -> #REF! | E5: ='líneas-PROGRAMAS'!B9 -> Saberes Ancestrales, Lenguas y Valores Culturales de los Pueblos Originarios en los Andes. | F5: FINALIZADO | G5: CIENCIAS Y SABERES ANCESTRALES
A6: MA-001 | B6: Efectos del COVID-19 en la Salud Mental y el Entorno Social: Prácticas y Uso de Plantas Medicinales como Estrategia de Afrontamiento en Ecuador. | C6: Analizar los efectos del COVID-19 en la salud mental y el entorno social de la población ecuatoriana, así como el uso de plantas medicinales y prácticas tradicionales como estrategias de afrontamiento, con el fin de generar conocimiento que contribuya a la mitigación de los impactos de la pandemia desde un enfoque interdisciplinario. | D6: =#REF! -> #REF! | E6: =#REF! -> #REF! | F6: FINALIZADO | G6: MEDICINA ANDINA
A7: CSA-002 | B7: Integración del modelo tpack y recursos digitales en la enseñanza de saberes ancestrales | C7: Integrar el modelo TPACK (Conocimiento Tecnológico, Pedagógico y del Contenido) con recursos digitales en la enseñanza de saberes ancestrales, con el propósito de fortalecer la educación intercultural y garantizar la transmisión efectiva de conocimientos tradicionales mediante el uso de tecnologías innovadoras. | D7: =#REF! -> #REF! | E7: ='líneas-PROGRAMAS'!B9 -> Saberes Ancestrales, Lenguas y Valores Culturales de los Pueblos Originarios en los Andes. | F7: FINALIZADO | G7: CIENCIAS Y SABERES ANCESTRALES
A8: AA-001 | B8: Planteamiento de Biorremediación y Prácticas Ancestrales en la Laguna de Colta, Chimborazo-Ecuador para Mejorar la Calidad de Agua que Sale del Sistema Lacustre | C8: Desarrollar un planteamiento de biorremediación basado en conocimientos científicos y prácticas ancestrales para mejorar la calidad del agua en la Laguna de Colta, Chimborazo-Ecuador, promoviendo la sostenibilidad ambiental y el rescate de saberes tradicionales en la gestión de los recursos hídricos. | D8: =#REF! -> #REF! | E8: ='líneas-PROGRAMAS'!B7 -> Prácticas Agropecuarias Ancestrales, seguridad y soberanía alimentaria. | F8: FINALIZADO | G8: AGROPECUARIA ANDINA
A9: E-002 | B9: El Suicidio Adolescente: Un Problema Latente en América Latina | C9: Analizar las causas, factores de riesgo y consecuencias del suicidio adolescente en América Latina, con el fin de generar conocimiento que permita desarrollar estrategias de prevención, intervención y apoyo psicosocial para reducir la incidencia de este problema en la región. | D9: =#REF! -> #REF! | E9: =#REF! -> #REF! | F9: FINALIZADO | G9: ENFERMERÍA
A10: PDS-001 | B10: Deserción en la educación superior en Ecuador, causas y consecuencias | C10: Analizar las causas y consecuencias de la deserción en la educación superior en Ecuador, con el propósito de generar conocimiento que permita el desarrollo de estrategias de retención estudiantil y el fortalecimiento de políticas educativas que mejoren la permanencia y culminación de estudios universitarios. | D10: =#REF! -> #REF! | E10: ='líneas-PROGRAMAS'!$B$8 -> Organización Comunitaria, Derechos, Interculturalidad y Emprendimiento | F10: FINALIZADO | G10: PROMOCIÓN Y DEFENSORÍA SOCIAL
A11: E-003 | B11: Atención Integral en Poblaciones Vulnerables: Revisión Bibliográfica sobre Preeclampsia Agravada y Polifarmacia en el Adulto Mayor | C11: Analizar los desafíos y estrategias de atención integral en poblaciones vulnerables, mediante una revisión bibliográfica sobre preeclampsia agravada y polifarmacia en el adulto mayor, con el fin de proporcionar información actualizada que contribuya a la mejora en la práctica clínica, la toma de decisiones médicas y el desarrollo de políticas de salud. | D11: =#REF! -> #REF! | E11: ='líneas-PROGRAMAS'!$B$10 -> Salud Intercultural, Comunitaria y Buen Vivir. | F11: FINALIZADO | G11: ENFERMERÍA
A12: CSA-003 | B12: Resignificación de las cerámicas prehispánicas en el Ecuador, un análisis contemporáneo desde la práctica artesanal | C12: Analizar la resignificación de las cerámicas prehispánicas en Ecuador desde una perspectiva contemporánea, a través de la práctica artesanal, con el fin de valorar su importancia cultural, fortalecer la identidad nacional y generar estrategias para la preservación y difusión de este patrimonio ancestral. | D12: =#REF! -> #REF! | E12: ='líneas-PROGRAMAS'!B9 -> Saberes Ancestrales, Lenguas y Valores Culturales de los Pueblos Originarios en los Andes. | F12: FINALIZADO | G12: CIENCIAS Y SABERES ANCESTRALES
A13: CSA-004 | B13: Revalorización de la Herencia Cultural Ecuatoriana a través de danzas, mitos, leyendas y espiritualidad andina | C13: Analizar y promover la revalorización de la herencia cultural ecuatoriana a través del estudio de danzas, mitos, leyendas y la espiritualidad andina, con el propósito de fortalecer la identidad cultural, rescatar conocimientos ancestrales y fomentar su transmisión a las nuevas generaciones. | D13: =#REF! -> #REF! | E13: ='líneas-PROGRAMAS'!B9 -> Saberes Ancestrales, Lenguas y Valores Culturales de los Pueblos Originarios en los Andes. | F13: FINALIZADO | G13: TERAPIAS ANCESTRALES
A14: CSA-005 | B14: Camino de la sabiduría y despertar de la nueva conciencia del runa pacha, un recorrido por la Sabiduría Tunkawan | C14: Estudiar los saberes milenarios de los ancestros relacionados con la Cultura Tunkawan y relacionar con el despertar de la conciencia del runa pacha hacia la senda de sanación. | D14: =#REF! -> #REF! | E14: ='líneas-PROGRAMAS'!B10 -> Salud Intercultural, Comunitaria y Buen Vivir. | F14: FINALIZADO | G14: TERAPIAS ANCESTRALES
A15: E-004 | B15: Impacto de la Violencia Sociocultural y el Abandono en la Calidad de Vida del Adulto Mayor: Un Enfoque Integral | C15: Analizar el impacto de la violencia sociocultural y el abandono en la calidad de vida del adulto mayor desde un enfoque integral, con el propósito de generar conocimiento que permita la formulación de estrategias de prevención, atención y mejora en las condiciones de vida de esta población vulnerable. | D15: Salud Intercultural, Bienestar Comunitario y Enfermería. | E15: ='líneas-PROGRAMAS'!$B$10 -> Salud Intercultural, Comunitaria y Buen Vivir. | F15: FINALIZADO | G15: ENFERMERÍA
A16: E-005 | B16: Factores de riesgo asociados a la presencia de Diabetes Mellitus II en la población Shuar del cantón Macas | C16: Identificar y analizar los factores de riesgo asociados a la presencia de Diabetes Mellitus II en la población Shuar del cantón Macas, con el propósito de generar conocimiento que contribuya al diseño de estrategias preventivas y programas de atención en salud adaptados a las características socioculturales de esta comunidad. | D16: =#REF! -> #REF! | E16: =#REF! -> #REF! | F16: EN EJECUCIÓN | G16: ENFERMERÍA
A17: TA-001 | B17: La cosmética natural como aporte a la medicina ancestral tradicional andina, mediante la elaboración de humectantes labiales. | C17: Desarrollar y promover la cosmética natural como un aporte a la medicina ancestral andina, mediante la elaboración de humectantes labiales a base de ingredientes naturales y conocimientos tradicionales, con el fin de valorar y revitalizar el uso de plantas medicinales en el cuidado personal y la salud. | D17: =#REF! -> #REF! | E17: ='líneas-PROGRAMAS'!$B$5 -> Medicina Ancestral Tradicional Andina | F17: FINALIZADO | G17: TERAPIAS ANCESTRALES
A18: CA-001 | B18: Integración de Saberes Ancestrales en el Diseño Cultural, Arquitectónico y Territorial en el Contexto Andino. | C18: Integrar los saberes ancestrales en el diseño cultural, arquitectónico y territorial en el contexto andino, mediante el desarrollo de estudios para la construcción del Centro de Interpretación Etnocultural en el IST Jatun Yachay Wasi y el diseño del Ayllu Yachay de la carrera de Construcciones Andinas, con el propósito de fortalecer la identidad cultural, la sostenibilidad y la educación intercultural en la región. | D18: =#REF! -> #REF! | E18: =#REF! -> #REF! | F18: FINALIZADO | G18: CONSTRUCIONES ANDINAS

Sheet publicaciones
A1: CÓDIGO | B1: NOMBRE | C1: TIPO | D1: LINK DE DESCARGA
A2: E-001 | B2: Violencia masculina en América Latina: Repercusiones psicológicas y dependencia emocional. | C2: Artículo | D2: https://doi.org/10.37811/cl_rcm.v7i3.6669
A3: CSA-001 | B3: Metodología Tinkuy (del encuentro) como estrategia del proceso enseñanza aprendizaje en el Modelo Educativo Intercultural Sustentado en los Saberes Ancestrales Andinos (MEISSAA) | C3: Artículo
A4: MA-001 | B4: Impacto de Covid-19 en la Salud Mental y Entorno Social de la Población | C4: Artículo | D4: https://doi.org/10.37811/cl_rcm.v7i4.9276
A5: CSA-002 | B5: Integración del modelo tpack y recursos digitales en la enseñanza de saberes ancestrales | C5: Artículo | D5: https://doi.org/10.56712/latam.v5i1.1707
A6: AA-001 | B6: Planteamiento de Biorremediación y Prácticas Ancestrales en la Laguna de Colta, Chimborazo-Ecuador para Mejorar la Calidad de Agua que Sale del Sistema Lacustre | C6: Artículo | D6: https://doi.org/10.37811/cl_rcm.v8i1.10464
A7: PDS-001 | B7: El Suicidio Adolescente: Un Problema Latente en América Latina. Revisión Bibliográfica | C7: Artículo | D7: https://doi.org/10.37811/cl_rcm.v8i3.12047
A8: E-002 | B8: Factores de Riesgo de la Violencia Intrafamiliar en Ecuador | C8: Artículo | D8: https://doi.org/10.37811/cl_rcm.v8i3.12256
A9: PDS-002 | B9: Deserción en la educación superior en Ecuador, causas y consecuencias | C9: Artículo | D9: https://doi.org/10.37811/cl_rcm.v8i3.12472
A10: E-003 | B10: Preeclampsia Agravada. Revisión Bibliográfica | C10: Artículo | D10: https://doi.org/10.37811/cl_rcm.v8i3.12471
A11: CSA-003 | B11: Resignificación de las cerámicas prehispánicas en el Ecuador, un análisis contemporáneo desde la práctica artesanal | C11: Artículo | D11: https://doi.org/10.56712/latam.v5i4.2559
A12: CSA-004 | B12: Tesoros culturales de la Sierra Norte de Ecuador: danzas tradicionales y mitos | C12: Artículo | D12: https://doi.org/10.46642/efd.v29i316.7504
A13: CSA-005 | B13: Ecuador: danzas, mitos y tradiciones de la Región Amazónica | C13: Artículo | D13: https://doi.org/10.46642/efd.v29i316.7558
A14: E-004 | B14: Polifarmacia en el Adulto Mayor. Revisión Bibliográfica | C14: Artículo | D14: https://doi.org/10.37811/cl_rcm.v8i4.13553
A15: TA-001 | B15: Revalorización de la espiritualidad andina a través de los mitos y ritos: Una exploración desde la cosmovivencia ancestral en las provincias de Azuay y Cañar | C15: Artículo | D15: https://doi.org/10.37811/cl_rcm.v8i5.14409
... A17: E-006 | B17: El impacto del abandono en la calidad de vida de los adultos mayores de la parroquia Juan Benigno Vela. Un estudio sobre sus dimensiones físicas, emocionales y sociales | C17: Artículo | D17: https://doi.org/10.37811/cl_rcm.v8i6.15844
A18: CSA-006 | B18: Ñukanchik Kawsay "Vida Ancestral del pueblo Kichwa Amazónico" | C18: Libro
A19: TA-002 | B19: Armonía Cósmica "Visión Andina del Zodiaco y la Salud Holística" | C19: Libro
A20: MA-002 | B20: Uso y Manejo de plantas medicinales, productos y técnicas frenre al COVID-19 UN ESTUDIO DE CASO EN EL ECUADOR | C20: Libro
A21: MA-003 | B21: Manual para la producción y transformación de Cannabis Medicinal No Psicoactivo | C21: Libro
A22: TA-003 | B22: TUNKAWAN Camino de la sabiduría | C22: Libro
A23: E-007 | B23: Inclusión Social del Adulto Mayor a la Sociedad | C23: Libro

Sheet grupos-investigación
B1: GRUPOS DE INVESTIGACIÓN
A3: No. | B3: NOMBRES ESTUDIANTES | C3: NOMBRE DEL GRUPO | D3: No. | E3: NOMBRES DOCENTES | F3: NOMBRE DEL GRUPO
A5: 1 | B5: GEOVANNY CONSTANTE | C5: ESPIRITUALIDAD ANDINA | D5: 1 | E5: ENRIQUE ÁVILA GRANDA | F5: SABERES MILENARIOS
A6: 2 | B6: ENRIQUE ÁVILA GRANDA | D6: 2 | E6: CESAR GUANOLEMA
A7: 3 | B7: JOSÉ BARRIGA | D7: 3 | E7: DIEGO GUARACA
A8: 4 | B8: PATRICIA FALCONÍ, GABRIEL CHÁVEZ | D8: 4 | E8: PUMA PUMAQUERO MINTA
A9: 5 | B9: GABRIELA FIALLOS | D9: 5 | E9: ALEXANDRA CELIA RIVADENEIRA SHIGUANGO,
A10: 6 | B10: GONZALO LÓPEZ | D10: 6 | E10: MARNY ROSANA CERDA CALAPUCHA,
A11: 7 | B11: CARMEN JURADO | D11: 7 | E11: JESÚS MARTÍN NARVAEZ CHIMBO,
A12: 8 | B12: JORGE LUIS RODRÍGUEZ | D12: 8 | E12: JOSÉ FREDY GREFA SHIGUANGO,
A13: 9 | B13: THALÍA LLANGARÍ | D13: 9 | E13: FÉLIX MIGUEL GREFA VARGAS.
A14: 10 | B14: DIÓGENES ZAMBRANO
A15: 11 | B15: PLANDA MORENO
A16: 12 | B16: GUSTAVO FABIÁN CALLE CRESPO, | D16: 1 | E16: MARCO MORENO | F16: PROMOCIÓN Y DEFENSORÍA SOCIAL
A17: 13 | B17: OLGA MARÍA CARLOSAMA PUPIALES, | D17: 2 | E17: ENRIQUE ÁVILA
A18: 14 | B18: MARINA ARACELLY JINES FLORES, | D18: 3 | E18: FRANCISCO CEPEDA
A19: 15 | B19: EVELYN SALOMÉ MOLINA MARTÍNEZ, | D19: 4 | E19: RAÚL AUCANCELA
A20: 16 | B20: INÉS VANESSA MOSCOSO TINAJERO, J | D20: 5 | E20: LUIS GUACHO
A21: 17 | B21: ÉSSICA ALEJANDRA TOAPANTA MOSCOSO,
A22: 18 | B22: GLENDA ZULAY VILLAMARÍN BERNAL,
A23: 19 | B23: CRISTIAN ROBINSON VIZCAÍNO GALLARDO.
A24: 20 | B24: MARÍA DEL ROSARIO VIVAR SARMIENTO | D24: 1 | E24: GEOVANNY CONSTANTE | F24: MEDICINA ANCESTRAL TRADICIONAL ANDINA
A25: 21 | B25: VERÓNICA PATRICIA PITISACA ERIQUEZ | D25: 2 | E25: ENRIQUE ÁVILA
A26: 22 | B26: MARCO VINICIO ROMERO LOGROÑO | D26: 3 | E26: RODRIGO MISE
A27: 23 | B27: VALERIA CAROLINA LOGROÑO LEÓN | D27: 4 | E27: GERMÁN RODRÍGUEZ
A28: 24 | B28: JAMY LIVIA CADENA HERAS | D28: 5 | E28: ENRIQUE CACHIGUANGO
A29: 25 | B29: JOSÉ DANIEL SÁNCHEZ ZABALA. | D29: 6 | E29: IVÁN PICÓN
A30: 26 | B30: LORENA DEL ROSARIO BENENAULA | D30: 7 | E30: NINFA GARCÍA
A31: 27 | B31: GONZALO ADRIÁN CABRERA SALDAÑA
A32: 28 | B32: NELLY MERCEDES QUIZPHE VILLA
A35: 1 | B35: ROCÍO DÍAZ | C35: SALUD Y BIENESTAR | D35: 1 | E35: DIEGO VELOZ | F35: AGROPECUARIA ANDINA
A36: 2 | B36: ENRIQUE ÁVILA | D36: 2 | E36: LILIANA LLERENA
A37: 3 | B37: NANCY SAYAY | D37: 3 | E37: FERNANDO PONCE
A38: 4 | B38: MARCO MORENO | D38: 4 | E38: MARCELO GARÓFALO
A39: 5 | B39: MARGINE OLIMPIA LLERENA RAMOS, | D39: 5 | E39: NAPOLEÓN GUILLEN
A40: 6 | B40: CLARA MARÍA TOAPANTA YANCHA,
A41: 7 | B41: KATHERINE DE LAS MERCEDES CONSTANTE VALLE,
A42: 8 | B42: XIOMARA ANTONELLA CASTRO LÓPEZ
A43: 9 | B43: ROSARIO JANETH LOZADA ANDALUZ | D43: 1 | E43: MARCO LEÓN | F43: CONSTRUCCIONES ANDINAS
A44: 10 | B44: JAIME MARCELO CORONEL ORDÓÑEZ | D44: 2 | E44: GEOVANNY CONSTANTE
...
